Package: GSReg Version: 1.41.0 Command: /Library/Frameworks/R.framework/Resources/bin/R CMD build --keep-empty-dirs --no-resave-data GSReg StartedAt: 2025-02-03 17:09:46 -0500 (Mon, 03 Feb 2025) EndedAt: 2025-02-03 17:10:26 -0500 (Mon, 03 Feb 2025) EllapsedTime: 40.5 seconds RetCode: 0 Status: OK PackageFile: GSReg_1.41.0.tar.gz PackageFileSize: 466.6 KiB