Package: GSReg Version: 1.41.0 Command: /home/biocbuild/R/R/bin/R CMD check --install=check:GSReg.install-out.txt --library=/home/biocbuild/R/R/site-library --no-vignettes --timings GSReg_1.41.0.tar.gz StartedAt: 2025-01-28 11:19:55 -0000 (Tue, 28 Jan 2025) EndedAt: 2025-01-28 11:23:17 -0000 (Tue, 28 Jan 2025) EllapsedTime: 202.3 seconds RetCode: 0 Status: WARNINGS CheckDir: GSReg.Rcheck Warnings: 4