Package: GSReg Version: 1.41.0 Command: /Library/Frameworks/R.framework/Resources/bin/R CMD check --install=check:GSReg.install-out.txt --library=/Library/Frameworks/R.framework/Resources/library --no-vignettes --timings GSReg_1.41.0.tar.gz StartedAt: 2025-02-12 20:57:15 -0500 (Wed, 12 Feb 2025) EndedAt: 2025-02-12 21:00:28 -0500 (Wed, 12 Feb 2025) EllapsedTime: 192.3 seconds RetCode: 0 Status: WARNINGS CheckDir: GSReg.Rcheck Warnings: 3