Package: GSReg Version: 1.41.0 Command: /home/biocbuild/bbs-3.21-bioc/R/bin/R CMD INSTALL GSReg StartedAt: 2025-02-04 15:56:32 -0500 (Tue, 04 Feb 2025) EndedAt: 2025-02-04 15:57:15 -0500 (Tue, 04 Feb 2025) EllapsedTime: 42.3 seconds RetCode: 0 Status: OK