Package: GSReg Version: 1.41.0 Command: rm -rf GSReg.buildbin-libdir && mkdir GSReg.buildbin-libdir && E:\biocbuild\bbs-3.21-bioc\R\bin\R.exe CMD INSTALL --build --library=GSReg.buildbin-libdir GSReg_1.41.0.tar.gz StartedAt: 2025-02-10 07:53:46 -0500 (Mon, 10 Feb 2025) EndedAt: 2025-02-10 07:54:38 -0500 (Mon, 10 Feb 2025) EllapsedTime: 52.0 seconds RetCode: 0 Status: OK PackageFile: GSReg_1.41.0.zip PackageFileSize: 387.6 KiB