Package: GSReg Version: 1.41.0 Command: chmod a+r GSReg -R && E:\biocbuild\bbs-3.21-bioc\R\bin\R.exe CMD build --keep-empty-dirs --no-resave-data GSReg StartedAt: 2025-02-09 19:07:34 -0500 (Sun, 09 Feb 2025) EndedAt: 2025-02-09 19:09:33 -0500 (Sun, 09 Feb 2025) EllapsedTime: 118.9 seconds RetCode: 0 Status: OK PackageFile: GSReg_1.41.0.tar.gz PackageFileSize: 466.7 KiB