Package: GSReg Version: 1.41.0 Command: E:\biocbuild\bbs-3.21-bioc\R\bin\R.exe CMD check --no-multiarch --install=check:GSReg.install-out.txt --library=E:\biocbuild\bbs-3.21-bioc\R\library --no-vignettes --timings GSReg_1.41.0.tar.gz StartedAt: 2025-02-10 01:47:03 -0500 (Mon, 10 Feb 2025) EndedAt: 2025-02-10 01:50:32 -0500 (Mon, 10 Feb 2025) EllapsedTime: 209.5 seconds RetCode: 0 Status: WARNINGS CheckDir: GSReg.Rcheck Warnings: 3