Package: GSReg Version: 1.41.0 Command: E:\biocbuild\bbs-3.21-bioc\R\bin\R.exe CMD INSTALL GSReg StartedAt: 2025-02-03 16:59:17 -0500 (Mon, 03 Feb 2025) EndedAt: 2025-02-03 17:00:10 -0500 (Mon, 03 Feb 2025) EllapsedTime: 53.8 seconds RetCode: 0 Status: OK