Package: GSVA Version: 2.1.5 Command: rm -rf GSVA.buildbin-libdir && mkdir GSVA.buildbin-libdir && /Users/biocbuild/BBS/utils/build-universal.sh GSVA_2.1.5.tar.gz /Library/Frameworks/R.framework/Resources/bin/R GSVA.buildbin-libdir StartedAt: 2025-02-04 22:18:43 -0500 (Tue, 04 Feb 2025) EndedAt: 2025-02-04 22:19:01 -0500 (Tue, 04 Feb 2025) EllapsedTime: 18.3 seconds RetCode: 0 Status: OK PackageFile: GSVA_2.1.5.tgz PackageFileSize: 2.258 MiB