Package: GSVA Version: 2.1.5 Command: /Library/Frameworks/R.framework/Resources/bin/R CMD check --install=check:GSVA.install-out.txt --library=/Library/Frameworks/R.framework/Resources/library --no-vignettes --timings GSVA_2.1.5.tar.gz StartedAt: 2025-02-09 19:34:01 -0500 (Sun, 09 Feb 2025) EndedAt: 2025-02-09 19:37:28 -0500 (Sun, 09 Feb 2025) EllapsedTime: 207.5 seconds RetCode: 0 Status: OK CheckDir: GSVA.Rcheck Warnings: 0