Package: GSVA Version: 2.1.5 Command: /home/biocbuild/R/R/bin/R CMD check --install=check:GSVA.install-out.txt --library=/home/biocbuild/R/R/site-library --no-vignettes --timings GSVA_2.1.5.tar.gz StartedAt: 2025-01-28 11:20:39 -0000 (Tue, 28 Jan 2025) EndedAt: 2025-01-28 11:33:01 -0000 (Tue, 28 Jan 2025) EllapsedTime: 742.7 seconds RetCode: 0 Status: OK CheckDir: GSVA.Rcheck Warnings: 0