Package: GSVA Version: 2.1.5 Command: /home/biocbuild/R/R/bin/R CMD INSTALL GSVA StartedAt: 2025-01-29 20:27:13 -0000 (Wed, 29 Jan 2025) EndedAt: 2025-01-29 20:28:09 -0000 (Wed, 29 Jan 2025) EllapsedTime: 55.3 seconds RetCode: 0 Status: OK