Package: GSVA Version: 2.1.5 Command: rm -rf GSVA.buildbin-libdir && mkdir GSVA.buildbin-libdir && /Users/biocbuild/BBS/utils/build-universal.sh GSVA_2.1.5.tar.gz /Library/Frameworks/R.framework/Resources/bin/R GSVA.buildbin-libdir StartedAt: 2025-02-05 00:43:20 -0500 (Wed, 05 Feb 2025) EndedAt: 2025-02-05 00:44:20 -0500 (Wed, 05 Feb 2025) EllapsedTime: 60.2 seconds RetCode: 0 Status: OK PackageFile: GSVA_2.1.5.tgz PackageFileSize: 2.261 MiB