Package: GSVA Version: 2.1.5 Command: /Library/Frameworks/R.framework/Resources/bin/R CMD INSTALL GSVA StartedAt: 2025-02-04 15:38:13 -0500 (Tue, 04 Feb 2025) EndedAt: 2025-02-04 15:39:06 -0500 (Tue, 04 Feb 2025) EllapsedTime: 53.4 seconds RetCode: 0 Status: OK