Package: GSVA Version: 2.1.5 Command: /home/biocbuild/bbs-3.21-bioc/R/bin/R CMD build --keep-empty-dirs --no-resave-data GSVA StartedAt: 2025-02-09 17:33:13 -0500 (Sun, 09 Feb 2025) EndedAt: 2025-02-09 17:35:34 -0500 (Sun, 09 Feb 2025) EllapsedTime: 141.3 seconds RetCode: 0 Status: OK PackageFile: GSVA_2.1.5.tar.gz PackageFileSize: 2.421 MiB