Package: GSVA Version: 2.1.5 Command: /home/biocbuild/bbs-3.21-bioc/R/bin/R CMD check --install=check:GSVA.install-out.txt --library=/home/biocbuild/bbs-3.21-bioc/R/site-library --timings GSVA_2.1.5.tar.gz StartedAt: 2025-02-04 22:57:23 -0500 (Tue, 04 Feb 2025) EndedAt: 2025-02-04 23:08:43 -0500 (Tue, 04 Feb 2025) EllapsedTime: 680.2 seconds RetCode: 0 Status: OK CheckDir: GSVA.Rcheck Warnings: 0