Package: GSVA Version: 2.1.5 Command: /home/biocbuild/bbs-3.21-bioc/R/bin/R CMD INSTALL GSVA StartedAt: 2025-02-04 15:51:00 -0500 (Tue, 04 Feb 2025) EndedAt: 2025-02-04 15:51:41 -0500 (Tue, 04 Feb 2025) EllapsedTime: 40.8 seconds RetCode: 0 Status: OK