Package: GSVA Version: 2.1.5 Command: rm -rf GSVA.buildbin-libdir && mkdir GSVA.buildbin-libdir && E:\biocbuild\bbs-3.21-bioc\R\bin\R.exe CMD INSTALL --build --library=GSVA.buildbin-libdir GSVA_2.1.5.tar.gz StartedAt: 2025-02-10 07:53:49 -0500 (Mon, 10 Feb 2025) EndedAt: 2025-02-10 07:54:58 -0500 (Mon, 10 Feb 2025) EllapsedTime: 68.9 seconds RetCode: 0 Status: OK PackageFile: GSVA_2.1.5.zip PackageFileSize: 2.024 MiB