Package: GSVA Version: 2.1.5 Command: chmod a+r GSVA -R && E:\biocbuild\bbs-3.21-bioc\R\bin\R.exe CMD build --keep-empty-dirs --no-resave-data GSVA StartedAt: 2025-02-04 19:10:38 -0500 (Tue, 04 Feb 2025) EndedAt: 2025-02-04 19:13:43 -0500 (Tue, 04 Feb 2025) EllapsedTime: 184.9 seconds RetCode: 0 Status: OK PackageFile: GSVA_2.1.5.tar.gz PackageFileSize: 2.133 MiB