Package: GSgalgoR Version: 1.17.0 Command: /Library/Frameworks/R.framework/Resources/bin/R CMD build --keep-empty-dirs --no-resave-data GSgalgoR StartedAt: 2025-02-09 16:33:26 -0500 (Sun, 09 Feb 2025) EndedAt: 2025-02-09 16:34:06 -0500 (Sun, 09 Feb 2025) EllapsedTime: 39.4 seconds RetCode: 0 Status: OK PackageFile: GSgalgoR_1.17.0.tar.gz PackageFileSize: 2.759 MiB