Package: GSgalgoR Version: 1.17.0 Command: /home/biocbuild/bbs-3.21-bioc/R/bin/R CMD build --keep-empty-dirs --no-resave-data GSgalgoR StartedAt: 2025-02-12 17:29:49 -0500 (Wed, 12 Feb 2025) EndedAt: 2025-02-12 17:31:26 -0500 (Wed, 12 Feb 2025) EllapsedTime: 97.1 seconds RetCode: 0 Status: OK PackageFile: GSgalgoR_1.17.0.tar.gz PackageFileSize: 2.773 MiB