Package: GSgalgoR Version: 1.17.0 Command: rm -rf GSgalgoR.buildbin-libdir && mkdir GSgalgoR.buildbin-libdir && E:\biocbuild\bbs-3.21-bioc\R\bin\R.exe CMD INSTALL --build --library=GSgalgoR.buildbin-libdir GSgalgoR_1.17.0.tar.gz StartedAt: 2025-02-10 07:53:45 -0500 (Mon, 10 Feb 2025) EndedAt: 2025-02-10 07:54:00 -0500 (Mon, 10 Feb 2025) EllapsedTime: 15.3 seconds RetCode: 0 Status: OK PackageFile: GSgalgoR_1.17.0.zip PackageFileSize: 2.285 MiB