Package: GSgalgoR Version: 1.17.0 Command: chmod a+r GSgalgoR -R && E:\biocbuild\bbs-3.21-bioc\R\bin\R.exe CMD build --keep-empty-dirs --no-resave-data GSgalgoR StartedAt: 2025-02-09 19:07:10 -0500 (Sun, 09 Feb 2025) EndedAt: 2025-02-09 19:09:28 -0500 (Sun, 09 Feb 2025) EllapsedTime: 138.0 seconds RetCode: 0 Status: OK PackageFile: GSgalgoR_1.17.0.tar.gz PackageFileSize: 2.219 MiB