Package: GWENA Version: 1.17.0 Command: rm -rf GWENA.buildbin-libdir && mkdir GWENA.buildbin-libdir && /Users/biocbuild/BBS/utils/build-universal.sh GWENA_1.17.0.tar.gz /Library/Frameworks/R.framework/Resources/bin/R GWENA.buildbin-libdir StartedAt: 2025-02-09 22:17:00 -0500 (Sun, 09 Feb 2025) EndedAt: 2025-02-09 22:17:17 -0500 (Sun, 09 Feb 2025) EllapsedTime: 16.3 seconds RetCode: 0 Status: OK PackageFile: GWENA_1.17.0.tgz PackageFileSize: 4.669 MiB