Package: GWENA Version: 1.17.0 Command: /Library/Frameworks/R.framework/Resources/bin/R CMD INSTALL GWENA StartedAt: 2025-02-12 15:19:26 -0500 (Wed, 12 Feb 2025) EndedAt: 2025-02-12 15:19:41 -0500 (Wed, 12 Feb 2025) EllapsedTime: 15.2 seconds RetCode: 0 Status: OK