Package: GWENA Version: 1.17.0 Command: chmod a+r GWENA -R && E:\biocbuild\bbs-3.21-bioc\R\bin\R.exe CMD build --keep-empty-dirs --no-resave-data GWENA StartedAt: 2025-02-09 19:09:33 -0500 (Sun, 09 Feb 2025) EndedAt: 2025-02-09 19:11:44 -0500 (Sun, 09 Feb 2025) EllapsedTime: 130.8 seconds RetCode: 0 Status: OK PackageFile: GWENA_1.17.0.tar.gz PackageFileSize: 4.216 MiB