Package: GWENA Version: 1.17.0 Command: E:\biocbuild\bbs-3.21-bioc\R\bin\R.exe CMD check --no-multiarch --install=check:GWENA.install-out.txt --library=E:\biocbuild\bbs-3.21-bioc\R\library --no-vignettes --timings GWENA_1.17.0.tar.gz StartedAt: 2025-02-10 01:50:34 -0500 (Mon, 10 Feb 2025) EndedAt: 2025-02-10 02:00:09 -0500 (Mon, 10 Feb 2025) EllapsedTime: 575.6 seconds RetCode: 0 Status: WARNINGS CheckDir: GWENA.Rcheck Warnings: 2