Package: GeDi Version: 1.3.0 Command: /Library/Frameworks/R.framework/Resources/bin/R CMD check --install=check:GeDi.install-out.txt --library=/Library/Frameworks/R.framework/Resources/library --no-vignettes --timings GeDi_1.3.0.tar.gz StartedAt: 2025-02-10 19:20:59 -0500 (Mon, 10 Feb 2025) EndedAt: 2025-02-10 19:29:00 -0500 (Mon, 10 Feb 2025) EllapsedTime: 480.8 seconds RetCode: 0 Status: OK CheckDir: GeDi.Rcheck Warnings: 0