Package: GeDi Version: 1.3.0 Command: /Library/Frameworks/R.framework/Resources/bin/R CMD INSTALL GeDi StartedAt: 2025-02-10 15:24:24 -0500 (Mon, 10 Feb 2025) EndedAt: 2025-02-10 15:24:44 -0500 (Mon, 10 Feb 2025) EllapsedTime: 20.3 seconds RetCode: 0 Status: OK