Package: GeDi Version: 1.3.0 Command: /home/biocbuild/R/R/bin/R CMD check --install=check:GeDi.install-out.txt --library=/home/biocbuild/R/R/site-library --no-vignettes --timings GeDi_1.3.0.tar.gz StartedAt: 2025-01-28 10:48:28 -0000 (Tue, 28 Jan 2025) EndedAt: 2025-01-28 11:16:40 -0000 (Tue, 28 Jan 2025) EllapsedTime: 1691.2 seconds RetCode: 0 Status: WARNINGS CheckDir: GeDi.Rcheck Warnings: 5