Package: GeDi Version: 1.3.0 Command: /home/biocbuild/R/R/bin/R CMD INSTALL GeDi StartedAt: 2025-01-29 20:26:56 -0000 (Wed, 29 Jan 2025) EndedAt: 2025-01-29 20:28:06 -0000 (Wed, 29 Jan 2025) EllapsedTime: 69.4 seconds RetCode: 0 Status: OK