Package: GeDi Version: 1.3.0 Command: /Library/Frameworks/R.framework/Resources/bin/R CMD build --keep-empty-dirs --no-resave-data GeDi StartedAt: 2025-02-10 16:46:49 -0500 (Mon, 10 Feb 2025) EndedAt: 2025-02-10 16:50:14 -0500 (Mon, 10 Feb 2025) EllapsedTime: 204.7 seconds RetCode: 0 Status: OK PackageFile: GeDi_1.3.0.tar.gz PackageFileSize: 3.413 MiB