Package: GeDi Version: 1.3.0 Command: /Library/Frameworks/R.framework/Resources/bin/R CMD INSTALL GeDi StartedAt: 2025-02-10 15:38:16 -0500 (Mon, 10 Feb 2025) EndedAt: 2025-02-10 15:39:23 -0500 (Mon, 10 Feb 2025) EllapsedTime: 66.6 seconds RetCode: 0 Status: OK