Package: GeDi Version: 1.3.0 Command: /home/biocbuild/bbs-3.21-bioc/R/bin/R CMD build --keep-empty-dirs --no-resave-data GeDi StartedAt: 2025-02-10 17:29:03 -0500 (Mon, 10 Feb 2025) EndedAt: 2025-02-10 17:32:00 -0500 (Mon, 10 Feb 2025) EllapsedTime: 177.3 seconds RetCode: 0 Status: OK PackageFile: GeDi_1.3.0.tar.gz PackageFileSize: 3.413 MiB