Package: GeDi Version: 1.3.0 Command: /home/biocbuild/bbs-3.21-bioc/R/bin/R CMD check --install=check:GeDi.install-out.txt --library=/home/biocbuild/bbs-3.21-bioc/R/site-library --timings GeDi_1.3.0.tar.gz StartedAt: 2025-02-10 22:39:35 -0500 (Mon, 10 Feb 2025) EndedAt: 2025-02-10 22:56:41 -0500 (Mon, 10 Feb 2025) EllapsedTime: 1025.4 seconds RetCode: 0 Status: OK CheckDir: GeDi.Rcheck Warnings: 0