Package: GeDi Version: 1.3.0 Command: /home/biocbuild/bbs-3.21-bioc/R/bin/R CMD INSTALL GeDi StartedAt: 2025-02-10 15:57:38 -0500 (Mon, 10 Feb 2025) EndedAt: 2025-02-10 15:58:27 -0500 (Mon, 10 Feb 2025) EllapsedTime: 49.2 seconds RetCode: 0 Status: OK