Package: GeDi Version: 1.3.0 Command: rm -rf GeDi.buildbin-libdir && mkdir GeDi.buildbin-libdir && E:\biocbuild\bbs-3.21-bioc\R\bin\R.exe CMD INSTALL --build --library=GeDi.buildbin-libdir GeDi_1.3.0.tar.gz StartedAt: 2025-02-11 08:00:05 -0500 (Tue, 11 Feb 2025) EndedAt: 2025-02-11 08:01:31 -0500 (Tue, 11 Feb 2025) EllapsedTime: 86.1 seconds RetCode: 0 Status: OK PackageFile: GeDi_1.3.0.zip PackageFileSize: 2.783 MiB