Package: GeDi Version: 1.3.0 Command: chmod a+r GeDi -R && E:\biocbuild\bbs-3.21-bioc\R\bin\R.exe CMD build --keep-empty-dirs --no-resave-data GeDi StartedAt: 2025-02-10 19:00:24 -0500 (Mon, 10 Feb 2025) EndedAt: 2025-02-10 19:04:14 -0500 (Mon, 10 Feb 2025) EllapsedTime: 229.5 seconds RetCode: 0 Status: OK PackageFile: GeDi_1.3.0.tar.gz PackageFileSize: 3.413 MiB