Package: GeDi Version: 1.3.0 Command: E:\biocbuild\bbs-3.21-bioc\R\bin\R.exe CMD INSTALL GeDi StartedAt: 2025-02-10 16:54:09 -0500 (Mon, 10 Feb 2025) EndedAt: 2025-02-10 16:55:24 -0500 (Mon, 10 Feb 2025) EllapsedTime: 74.9 seconds RetCode: 0 Status: OK