Package: GenProSeq Version: 1.11.0 Command: /Library/Frameworks/R.framework/Resources/bin/R CMD INSTALL GenProSeq StartedAt: 2025-02-12 15:29:39 -0500 (Wed, 12 Feb 2025) EndedAt: 2025-02-12 15:29:44 -0500 (Wed, 12 Feb 2025) EllapsedTime: 5.1 seconds RetCode: 0 Status: OK