Package: GenProSeq Version: 1.11.0 Command: /home/biocbuild/R/R/bin/R CMD build --keep-empty-dirs --no-resave-data GenProSeq StartedAt: 2025-01-28 23:08:49 -0000 (Tue, 28 Jan 2025) EndedAt: 2025-01-28 23:09:20 -0000 (Tue, 28 Jan 2025) EllapsedTime: 31.0 seconds RetCode: 0 Status: OK PackageFile: GenProSeq_1.11.0.tar.gz PackageFileSize: 1.14 MiB