Package: GenProSeq Version: 1.11.0 Command: /home/biocbuild/R/R/bin/R CMD INSTALL GenProSeq StartedAt: 2025-01-29 20:37:06 -0000 (Wed, 29 Jan 2025) EndedAt: 2025-01-29 20:37:21 -0000 (Wed, 29 Jan 2025) EllapsedTime: 15.2 seconds RetCode: 0 Status: OK