Package: GenProSeq Version: 1.11.0 Command: /Library/Frameworks/R.framework/Resources/bin/R CMD build --keep-empty-dirs --no-resave-data GenProSeq StartedAt: 2025-02-12 16:50:56 -0500 (Wed, 12 Feb 2025) EndedAt: 2025-02-12 16:51:31 -0500 (Wed, 12 Feb 2025) EllapsedTime: 35.5 seconds RetCode: 1 Status: ERROR PackageFile: None PackageFileSize: NA