Package: GenProSeq Version: 1.11.0 Command: /home/biocbuild/bbs-3.21-bioc/R/bin/R CMD INSTALL GenProSeq StartedAt: 2025-02-12 15:12:14 -0500 (Wed, 12 Feb 2025) EndedAt: 2025-02-12 15:12:25 -0500 (Wed, 12 Feb 2025) EllapsedTime: 10.7 seconds RetCode: 0 Status: OK