Package: GenProSeq Version: 1.11.0 Command: chmod a+r GenProSeq -R && E:\biocbuild\bbs-3.21-bioc\R\bin\R.exe --arch x64 CMD build --keep-empty-dirs --no-resave-data GenProSeq StartedAt: 2025-02-09 18:55:36 -0500 (Sun, 09 Feb 2025) EndedAt: 2025-02-09 18:57:44 -0500 (Sun, 09 Feb 2025) EllapsedTime: 127.5 seconds RetCode: 1 Status: ERROR PackageFile: None PackageFileSize: NA