Package: GenProSeq Version: 1.11.0 Command: E:\biocbuild\bbs-3.21-bioc\R\bin\R.exe CMD INSTALL GenProSeq StartedAt: 2025-02-09 16:59:41 -0500 (Sun, 09 Feb 2025) EndedAt: 2025-02-09 16:59:58 -0500 (Sun, 09 Feb 2025) EllapsedTime: 17.9 seconds RetCode: 0 Status: OK