Package: GenVisR Version: 1.39.0 Command: /Library/Frameworks/R.framework/Resources/bin/R CMD build --keep-empty-dirs --no-resave-data GenVisR StartedAt: 2025-02-09 16:26:19 -0500 (Sun, 09 Feb 2025) EndedAt: 2025-02-09 16:27:18 -0500 (Sun, 09 Feb 2025) EllapsedTime: 59.6 seconds RetCode: 0 Status: OK PackageFile: GenVisR_1.39.0.tar.gz PackageFileSize: 5.048 MiB