Package: GenVisR Version: 1.39.0 Command: /Library/Frameworks/R.framework/Resources/bin/R CMD check --install=check:GenVisR.install-out.txt --library=/Library/Frameworks/R.framework/Resources/library --no-vignettes --timings GenVisR_1.39.0.tar.gz StartedAt: 2025-02-09 19:25:22 -0500 (Sun, 09 Feb 2025) EndedAt: 2025-02-09 19:29:02 -0500 (Sun, 09 Feb 2025) EllapsedTime: 219.6 seconds RetCode: 0 Status: OK CheckDir: GenVisR.Rcheck Warnings: 0