Package: GenVisR Version: 1.39.0 Command: /home/biocbuild/R/R/bin/R CMD check --install=check:GenVisR.install-out.txt --library=/home/biocbuild/R/R/site-library --no-vignettes --timings GenVisR_1.39.0.tar.gz StartedAt: 2025-01-28 11:00:16 -0000 (Tue, 28 Jan 2025) EndedAt: 2025-01-28 11:07:48 -0000 (Tue, 28 Jan 2025) EllapsedTime: 452.3 seconds RetCode: 1 Status: ERROR CheckDir: GenVisR.Rcheck Warnings: NA