Package: GenVisR Version: 1.39.0 Command: chmod a+r GenVisR -R && E:\biocbuild\bbs-3.21-bioc\R\bin\R.exe CMD build --keep-empty-dirs --no-resave-data GenVisR StartedAt: 2025-02-09 18:55:37 -0500 (Sun, 09 Feb 2025) EndedAt: 2025-02-09 18:59:29 -0500 (Sun, 09 Feb 2025) EllapsedTime: 231.8 seconds RetCode: 0 Status: OK PackageFile: GenVisR_1.39.0.tar.gz PackageFileSize: 3.425 MiB